BEGIN:VCALENDAR
VERSION:2.0
PRODID:-//Aston Le Walls Parish Council//Meeting Calendar//EN
CALSCALE:GREGORIAN
METHOD:PUBLISH
BEGIN:VEVENT
UID:70859-20240711@astonlewallsparishcouncil.gov.uk
DTSTAMP:20260421T081217Z
DTSTART;VALUE=DATE:20240711
DTEND;VALUE=DATE:20240712
SUMMARY:Full Council Meeting &#8211\\; 11th July 2024
DESCRIPTION:Full Council Meeting\nView details: https://astonlewallsparishcouncil.gov.uk/meetings/full-council-meeting-11th-july-2024/
URL:https://astonlewallsparishcouncil.gov.uk/meetings/full-council-meeting-11th-july-2024/
END:VEVENT
END:VCALENDAR
