BEGIN:VCALENDAR
VERSION:2.0
PRODID:-//Aston Le Walls Parish Council//Meeting Calendar//EN
CALSCALE:GREGORIAN
METHOD:PUBLISH
BEGIN:VEVENT
UID:79212-20250710@astonlewallsparishcouncil.gov.uk
DTSTAMP:20260422T083103Z
DTSTART;VALUE=DATE:20250710
DTEND;VALUE=DATE:20250711
SUMMARY:Parish Council Meeting
DESCRIPTION:Full Council Meeting\nView details: https://astonlewallsparishcouncil.gov.uk/meetings/parish-council-meeting-2/
URL:https://astonlewallsparishcouncil.gov.uk/meetings/parish-council-meeting-2/
END:VEVENT
END:VCALENDAR
