BEGIN:VCALENDAR
VERSION:2.0
PRODID:-//Aston Le Walls Parish Council//Meeting Calendar//EN
CALSCALE:GREGORIAN
METHOD:PUBLISH
BEGIN:VEVENT
UID:79150-20250320@astonlewallsparishcouncil.gov.uk
DTSTAMP:20260423T163409Z
DTSTART;VALUE=DATE:20250320
DTEND;VALUE=DATE:20250321
SUMMARY:Council Meeting &#8211\\; 20th March 2025
DESCRIPTION:Full Council Meeting\nView details: https://astonlewallsparishcouncil.gov.uk/meetings/council-meeting-13th-march-2025/
URL:https://astonlewallsparishcouncil.gov.uk/meetings/council-meeting-13th-march-2025/
END:VEVENT
END:VCALENDAR
