BEGIN:VCALENDAR
VERSION:2.0
PRODID:-//Aston Le Walls Parish Council//Meeting Calendar//EN
CALSCALE:GREGORIAN
METHOD:PUBLISH
BEGIN:VEVENT
UID:79211-20250612@astonlewallsparishcouncil.gov.uk
DTSTAMP:20260422T102004Z
DTSTART;VALUE=DATE:20250612
DTEND;VALUE=DATE:20250613
SUMMARY:Parish Council Meeting
DESCRIPTION:Full Council Meeting\nView details: https://astonlewallsparishcouncil.gov.uk/meetings/parish-council-meeting/
URL:https://astonlewallsparishcouncil.gov.uk/meetings/parish-council-meeting/
END:VEVENT
END:VCALENDAR
