BEGIN:VCALENDAR
VERSION:2.0
PRODID:-//Aston Le Walls Parish Council//Meeting Calendar//EN
CALSCALE:GREGORIAN
METHOD:PUBLISH
BEGIN:VEVENT
UID:79270-20250911@astonlewallsparishcouncil.gov.uk
DTSTAMP:20260422T101056Z
DTSTART;VALUE=DATE:20250911
DTEND;VALUE=DATE:20250912
SUMMARY:Parish Council Meeting
DESCRIPTION:Full Council Meeting\nView details: https://astonlewallsparishcouncil.gov.uk/meetings/parish-council-meeting-3/
URL:https://astonlewallsparishcouncil.gov.uk/meetings/parish-council-meeting-3/
END:VEVENT
END:VCALENDAR
